BEGIN:VCALENDAR
VERSION:2.0
METHOD:PUBLISH
PRODID:-//Event-List//NONSGML Event-List 5.8.1//DE
X-WR-TIMEZONE:Europe/Amsterdam
CALSCALE:GREGORIAN
BEGIN:VTIMEZONE
TZID:Europe/Amsterdam
BEGIN:DAYLIGHT
TZOFFSETFROM:+0100
TZOFFSETTO:+0200
DTSTART:19810329T020000
RRULE:FREQ=YEARLY;BYMONTH=3;BYDAY=-1SU
TZNAME:CEST
END:DAYLIGHT
BEGIN:STANDARD
TZOFFSETFROM:+0200
TZOFFSETTO:+0100
DTSTART:19961027T030000
RRULE:FREQ=YEARLY;BYMONTH=10;BYDAY=-1SU
TZNAME:CET
END:STANDARD
END:VTIMEZONE
BEGIN:VEVENT
DTSTAMP:20241011T112119Z
DTSTART;VALUE=DATE:20250503
DTEND;VALUE=DATE:20250504
UID:2657@www.skiklub-wernigerode.de/calendar
CLASS:PUBLIC
SUMMARY:4. MTBO Wernigerode/Harz 2025- Orientierungsfahren
DESCRIPTION:Infos unter MTBO auf der Ski-Klub-Webseite 
CATEGORIES:Wettkampf
END:VEVENT
END:VCALENDAR
